Package: GenVisR Version: 1.34.0 Command: /home/biocbuild/R/R-4.3.1/bin/R CMD build --keep-empty-dirs --no-resave-data GenVisR StartedAt: 2023-11-02 01:29:40 -0000 (Thu, 02 Nov 2023) EndedAt: 2023-11-02 01:34:46 -0000 (Thu, 02 Nov 2023) EllapsedTime: 306.4 seconds RetCode: 0 Status: OK PackageFile: GenVisR_1.34.0.tar.gz PackageFileSize: 8.507 MiB