Package: GWAS.BAYES Version: 1.12.0 Command: rm -rf GWAS.BAYES.buildbin-libdir && mkdir GWAS.BAYES.buildbin-libdir && F:\biocbuild\bbs-3.18-bioc\R\bin\R.exe CMD INSTALL --build --library=GWAS.BAYES.buildbin-libdir GWAS.BAYES_1.12.0.tar.gz StartedAt: 2024-04-16 07:07:28 -0400 (Tue, 16 Apr 2024) EndedAt: 2024-04-16 07:07:37 -0400 (Tue, 16 Apr 2024) EllapsedTime: 8.7 seconds RetCode: 0 Status: OK PackageFile: GWAS.BAYES_1.12.0.zip PackageFileSize: 1.695 MiB