Package: GWAS.BAYES Version: 1.12.0 Command: /Library/Frameworks/R.framework/Resources/bin/R CMD INSTALL GWAS.BAYES StartedAt: 2024-03-03 15:36:32 -0500 (Sun, 03 Mar 2024) EndedAt: 2024-03-03 15:36:41 -0500 (Sun, 03 Mar 2024) EllapsedTime: 8.7 seconds RetCode: 0 Status: OK