Package: GSVA Version: 1.50.0 Command: /home/biocbuild/R/R-4.3.1/bin/R CMD build --keep-empty-dirs --no-resave-data GSVA StartedAt: 2023-11-02 01:54:51 -0000 (Thu, 02 Nov 2023) EndedAt: 2023-11-02 01:58:23 -0000 (Thu, 02 Nov 2023) EllapsedTime: 211.5 seconds RetCode: 0 Status: OK PackageFile: GSVA_1.50.0.tar.gz PackageFileSize: 2.209 MiB