Package: GSRI Version: 2.50.0 Command: /home/biocbuild/bbs-3.18-bioc/R/bin/R CMD build --keep-empty-dirs --no-resave-data GSRI StartedAt: 2024-04-15 17:26:23 -0400 (Mon, 15 Apr 2024) EndedAt: 2024-04-15 17:27:07 -0400 (Mon, 15 Apr 2024) EllapsedTime: 43.2 seconds RetCode: 0 Status: OK PackageFile: GSRI_2.50.0.tar.gz PackageFileSize: 206.4 KiB