Package: GSRI Version: 2.50.0 Command: /Library/Frameworks/R.framework/Resources/bin/R CMD INSTALL GSRI StartedAt: 2024-04-15 16:06:53 -0400 (Mon, 15 Apr 2024) EndedAt: 2024-04-15 16:07:50 -0400 (Mon, 15 Apr 2024) EllapsedTime: 57.1 seconds RetCode: 0 Status: OK