Package: GSRI Version: 2.50.0 Command: /home/biocbuild/R/R-4.3.1/bin/R CMD INSTALL GSRI StartedAt: 2023-11-01 20:44:03 -0000 (Wed, 01 Nov 2023) EndedAt: 2023-11-01 20:44:35 -0000 (Wed, 01 Nov 2023) EllapsedTime: 31.6 seconds RetCode: 0 Status: OK