Package: GSEAlm Version: 1.62.0 Command: chmod a+r GSEAlm -R && F:\biocbuild\bbs-3.18-bioc\R\bin\R.exe CMD build --keep-empty-dirs --no-resave-data GSEAlm StartedAt: 2024-04-15 18:55:56 -0400 (Mon, 15 Apr 2024) EndedAt: 2024-04-15 18:56:52 -0400 (Mon, 15 Apr 2024) EllapsedTime: 56.7 seconds RetCode: 0 Status: OK PackageFile: GSEAlm_1.62.0.tar.gz PackageFileSize: 950.2 KiB