Package: GSEAlm Version: 1.62.0 Command: /home/biocbuild/bbs-3.18-bioc/R/bin/R CMD check --install=check:GSEAlm.install-out.txt --library=/home/biocbuild/bbs-3.18-bioc/R/site-library --timings GSEAlm_1.62.0.tar.gz StartedAt: 2024-04-15 23:32:43 -0400 (Mon, 15 Apr 2024) EndedAt: 2024-04-15 23:34:35 -0400 (Mon, 15 Apr 2024) EllapsedTime: 112.0 seconds RetCode: 0 Status: OK CheckDir: GSEAlm.Rcheck Warnings: 0