Package: GSEAlm Version: 1.62.0 Command: /home/biocbuild/bbs-3.18-bioc/R/bin/R CMD build --keep-empty-dirs --no-resave-data GSEAlm StartedAt: 2024-04-15 17:25:50 -0400 (Mon, 15 Apr 2024) EndedAt: 2024-04-15 17:26:37 -0400 (Mon, 15 Apr 2024) EllapsedTime: 47.0 seconds RetCode: 0 Status: OK PackageFile: GSEAlm_1.62.0.tar.gz PackageFileSize: 945.8 KiB