Package: GSEAlm Version: 1.62.0 Command: /Library/Frameworks/R.framework/Resources/bin/R CMD INSTALL GSEAlm StartedAt: 2024-04-15 15:04:47 -0400 (Mon, 15 Apr 2024) EndedAt: 2024-04-15 15:04:55 -0400 (Mon, 15 Apr 2024) EllapsedTime: 8.1 seconds RetCode: 0 Status: OK