Package: GSEAlm Version: 1.62.0 Command: rm -rf GSEAlm.buildbin-libdir && mkdir GSEAlm.buildbin-libdir && /Users/biocbuild/BBS/utils/build-universal.sh GSEAlm_1.62.0.tar.gz /Library/Frameworks/R.framework/Resources/bin/R GSEAlm.buildbin-libdir StartedAt: 2024-03-04 00:44:48 -0500 (Mon, 04 Mar 2024) EndedAt: 2024-03-04 00:44:55 -0500 (Mon, 04 Mar 2024) EllapsedTime: 7.1 seconds RetCode: 0 Status: OK PackageFile: GSEAlm_1.62.0.tgz PackageFileSize: 1.24 MiB