Package: GSCA Version: 2.32.0 Command: chmod a+r GSCA -R && F:\biocbuild\bbs-3.18-bioc\R\bin\R.exe CMD build --keep-empty-dirs --no-resave-data GSCA StartedAt: 2024-04-15 18:55:33 -0400 (Mon, 15 Apr 2024) EndedAt: 2024-04-15 18:55:54 -0400 (Mon, 15 Apr 2024) EllapsedTime: 21.7 seconds RetCode: 0 Status: OK PackageFile: GSCA_2.32.0.tar.gz PackageFileSize: 2.187 MiB