Package: GSCA Version: 2.32.0 Command: rm -rf GSCA.buildbin-libdir && mkdir GSCA.buildbin-libdir && F:\biocbuild\bbs-3.18-bioc\R\bin\R.exe CMD INSTALL --build --library=GSCA.buildbin-libdir GSCA_2.32.0.tar.gz StartedAt: 2024-04-16 07:07:04 -0400 (Tue, 16 Apr 2024) EndedAt: 2024-04-16 07:07:25 -0400 (Tue, 16 Apr 2024) EllapsedTime: 21.7 seconds RetCode: 0 Status: OK PackageFile: GSCA_2.32.0.zip PackageFileSize: 2.246 MiB