Package: GSCA Version: 2.32.0 Command: /Library/Frameworks/R.framework/Resources/bin/R CMD INSTALL GSCA StartedAt: 2024-03-03 15:23:59 -0500 (Sun, 03 Mar 2024) EndedAt: 2024-03-03 15:24:09 -0500 (Sun, 03 Mar 2024) EllapsedTime: 9.8 seconds RetCode: 0 Status: OK