Package: GSCA Version: 2.32.0 Command: /home/biocbuild/R/R-4.3.1/bin/R CMD build --keep-empty-dirs --no-resave-data GSCA StartedAt: 2023-11-02 01:52:26 -0000 (Thu, 02 Nov 2023) EndedAt: 2023-11-02 01:52:44 -0000 (Thu, 02 Nov 2023) EllapsedTime: 18.0 seconds RetCode: 0 Status: OK PackageFile: GSCA_2.32.0.tar.gz PackageFileSize: 2.283 MiB