Package: GSAR Version: 1.36.0 Command: F:\biocbuild\bbs-3.18-bioc\R\bin\R.exe CMD INSTALL GSAR StartedAt: 2024-04-15 15:38:20 -0400 (Mon, 15 Apr 2024) EndedAt: 2024-04-15 15:38:36 -0400 (Mon, 15 Apr 2024) EllapsedTime: 16.2 seconds RetCode: 0 Status: OK