Package: GSAR Version: 1.36.0 Command: F:\biocbuild\bbs-3.18-bioc\R\bin\R.exe CMD check --no-multiarch --install=check:GSAR.install-out.txt --library=F:\biocbuild\bbs-3.18-bioc\R\library --no-vignettes --timings GSAR_1.36.0.tar.gz StartedAt: 2024-04-16 01:28:42 -0400 (Tue, 16 Apr 2024) EndedAt: 2024-04-16 01:29:32 -0400 (Tue, 16 Apr 2024) EllapsedTime: 49.9 seconds RetCode: 0 Status: OK CheckDir: GSAR.Rcheck Warnings: 0