Package: GSAR Version: 1.36.0 Command: chmod a+r GSAR -R && F:\biocbuild\bbs-3.18-bioc\R\bin\R.exe CMD build --keep-empty-dirs --no-resave-data GSAR StartedAt: 2024-04-15 18:55:29 -0400 (Mon, 15 Apr 2024) EndedAt: 2024-04-15 19:01:35 -0400 (Mon, 15 Apr 2024) EllapsedTime: 366.1 seconds RetCode: 0 Status: OK PackageFile: GSAR_1.36.0.tar.gz PackageFileSize: 2.088 MiB