Package: GSALightning Version: 1.30.0 Command: /home/biocbuild/bbs-3.18-bioc/R/bin/R CMD build --keep-empty-dirs --no-resave-data GSALightning StartedAt: 2024-04-15 17:25:15 -0400 (Mon, 15 Apr 2024) EndedAt: 2024-04-15 17:26:15 -0400 (Mon, 15 Apr 2024) EllapsedTime: 59.8 seconds RetCode: 0 Status: OK PackageFile: GSALightning_1.30.0.tar.gz PackageFileSize: 4.227 MiB