Package: GSALightning Version: 1.30.0 Command: /home/biocbuild/R/R-4.3.1/bin/R CMD INSTALL GSALightning StartedAt: 2023-11-01 20:04:18 -0000 (Wed, 01 Nov 2023) EndedAt: 2023-11-01 20:04:25 -0000 (Wed, 01 Nov 2023) EllapsedTime: 6.9 seconds RetCode: 0 Status: OK