Package: GSALightning Version: 1.30.0 Command: /home/biocbuild/R/R-4.3.1/bin/R CMD build --keep-empty-dirs --no-resave-data GSALightning StartedAt: 2023-11-02 01:52:11 -0000 (Thu, 02 Nov 2023) EndedAt: 2023-11-02 01:54:05 -0000 (Thu, 02 Nov 2023) EllapsedTime: 114.2 seconds RetCode: 0 Status: OK PackageFile: GSALightning_1.30.0.tar.gz PackageFileSize: 4.253 MiB