Package: GRmetrics Version: 1.28.0 Command: /home/biocbuild/R/R-4.3.1/bin/R CMD build --keep-empty-dirs --no-resave-data GRmetrics StartedAt: 2023-11-02 01:51:21 -0000 (Thu, 02 Nov 2023) EndedAt: 2023-11-02 01:52:26 -0000 (Thu, 02 Nov 2023) EllapsedTime: 65.1 seconds RetCode: 0 Status: OK PackageFile: GRmetrics_1.28.0.tar.gz PackageFileSize: 2.47 MiB