Package: GPA Version: 1.14.0 Command: chmod a+r GPA -R && F:\biocbuild\bbs-3.18-bioc\R\bin\R.exe CMD build --keep-empty-dirs --no-resave-data GPA StartedAt: 2024-04-15 18:52:54 -0400 (Mon, 15 Apr 2024) EndedAt: 2024-04-15 18:55:38 -0400 (Mon, 15 Apr 2024) EllapsedTime: 163.8 seconds RetCode: 0 Status: OK PackageFile: GPA_1.14.0.tar.gz PackageFileSize: 185.1 KiB