Package: GPA Version: 1.14.0 Command: /home/biocbuild/R/R-4.3.1/bin/R CMD build --keep-empty-dirs --no-resave-data GPA StartedAt: 2023-11-02 01:46:44 -0000 (Thu, 02 Nov 2023) EndedAt: 2023-11-02 01:49:26 -0000 (Thu, 02 Nov 2023) EllapsedTime: 162.2 seconds RetCode: 0 Status: OK PackageFile: GPA_1.14.0.tar.gz PackageFileSize: 302.1 KiB