Package: GOfuncR Version: 1.22.2 Command: /Library/Frameworks/R.framework/Resources/bin/R CMD check --install=check:GOfuncR.install-out.txt --library=/Library/Frameworks/R.framework/Resources/library --no-vignettes --timings GOfuncR_1.22.2.tar.gz StartedAt: 2024-03-03 20:57:47 -0500 (Sun, 03 Mar 2024) EndedAt: 2024-03-03 21:03:54 -0500 (Sun, 03 Mar 2024) EllapsedTime: 366.7 seconds RetCode: 0 Status: OK CheckDir: GOfuncR.Rcheck Warnings: 0