Package: GOfuncR Version: 1.22.0 Command: /home/biocbuild/R/R-4.3.1/bin/R CMD INSTALL GOfuncR StartedAt: 2023-11-01 20:17:19 -0000 (Wed, 01 Nov 2023) EndedAt: 2023-11-01 20:21:13 -0000 (Wed, 01 Nov 2023) EllapsedTime: 233.8 seconds RetCode: 0 Status: OK