Package: GOfuncR Version: 1.22.0 Command: /home/biocbuild/R/R-4.3.1/bin/R CMD build --keep-empty-dirs --no-resave-data GOfuncR StartedAt: 2023-11-02 01:43:58 -0000 (Thu, 02 Nov 2023) EndedAt: 2023-11-02 01:50:29 -0000 (Thu, 02 Nov 2023) EllapsedTime: 391.5 seconds RetCode: 0 Status: OK PackageFile: GOfuncR_1.22.0.tar.gz PackageFileSize: 5.175 MiB