Package: GOexpress Version: 1.36.0 Command: /Library/Frameworks/R.framework/Resources/bin/R CMD build --keep-empty-dirs --no-resave-data GOexpress StartedAt: 2024-04-15 19:03:45 -0400 (Mon, 15 Apr 2024) EndedAt: 2024-04-15 19:05:09 -0400 (Mon, 15 Apr 2024) EllapsedTime: 84.1 seconds RetCode: 0 Status: OK PackageFile: GOexpress_1.36.0.tar.gz PackageFileSize: 2.345 MiB