Package: GOTHiC Version: 1.38.0 Command: /home/biocbuild/R/R-4.3.1/bin/R CMD INSTALL GOTHiC StartedAt: 2023-11-01 20:33:18 -0000 (Wed, 01 Nov 2023) EndedAt: 2023-11-01 20:34:11 -0000 (Wed, 01 Nov 2023) EllapsedTime: 53.5 seconds RetCode: 0 Status: OK