Package: GOTHiC Version: 1.38.0 Command: /home/biocbuild/R/R-4.3.1/bin/R CMD build --keep-empty-dirs --no-resave-data GOTHiC StartedAt: 2023-11-02 01:46:24 -0000 (Thu, 02 Nov 2023) EndedAt: 2023-11-02 01:47:16 -0000 (Thu, 02 Nov 2023) EllapsedTime: 52.1 seconds RetCode: 0 Status: OK PackageFile: GOTHiC_1.38.0.tar.gz PackageFileSize: 1.686 MiB