Package: GOSemSim Version: 2.28.0 Command: /home/biocbuild/R/R-4.3.1/bin/R CMD build --keep-empty-dirs --no-resave-data GOSemSim StartedAt: 2023-11-02 01:44:28 -0000 (Thu, 02 Nov 2023) EndedAt: 2023-11-02 01:45:07 -0000 (Thu, 02 Nov 2023) EllapsedTime: 39.0 seconds RetCode: 0 Status: OK PackageFile: GOSemSim_2.28.0.tar.gz PackageFileSize: 594.6 KiB