Package: GNOSIS Version: 1.0.0 Command: chmod a+r GNOSIS -R && F:\biocbuild\bbs-3.18-bioc\R\bin\R.exe CMD build --keep-empty-dirs --no-resave-data GNOSIS StartedAt: 2024-04-15 18:49:51 -0400 (Mon, 15 Apr 2024) EndedAt: 2024-04-15 18:51:30 -0400 (Mon, 15 Apr 2024) EllapsedTime: 98.9 seconds RetCode: 0 Status: OK PackageFile: GNOSIS_1.0.0.tar.gz PackageFileSize: 3.373 MiB