Package: GNOSIS Version: 1.0.0 Command: rm -rf GNOSIS.buildbin-libdir && mkdir GNOSIS.buildbin-libdir && F:\biocbuild\bbs-3.18-bioc\R\bin\R.exe CMD INSTALL --build --library=GNOSIS.buildbin-libdir GNOSIS_1.0.0.tar.gz StartedAt: 2024-04-16 07:05:55 -0400 (Tue, 16 Apr 2024) EndedAt: 2024-04-16 07:07:28 -0400 (Tue, 16 Apr 2024) EllapsedTime: 93.8 seconds RetCode: 0 Status: OK PackageFile: GNOSIS_1.0.0.zip PackageFileSize: 2.532 MiB