Package: GNOSIS Version: 1.0.0 Command: /Library/Frameworks/R.framework/Resources/bin/R CMD INSTALL GNOSIS StartedAt: 2024-04-15 16:33:01 -0400 (Mon, 15 Apr 2024) EndedAt: 2024-04-15 16:35:02 -0400 (Mon, 15 Apr 2024) EllapsedTime: 121.4 seconds RetCode: 0 Status: OK