Package: GNOSIS Version: 1.0.0 Command: /Library/Frameworks/R.framework/Resources/bin/R CMD INSTALL GNOSIS StartedAt: 2024-03-03 15:42:07 -0500 (Sun, 03 Mar 2024) EndedAt: 2024-03-03 15:43:33 -0500 (Sun, 03 Mar 2024) EllapsedTime: 85.9 seconds RetCode: 0 Status: OK