Package: GNET2 Version: 1.18.0 Command: /home/biocbuild/bbs-3.18-bioc/R/bin/R CMD check --install=check:GNET2.install-out.txt --library=/home/biocbuild/bbs-3.18-bioc/R/site-library --timings GNET2_1.18.0.tar.gz StartedAt: 2024-04-15 23:22:14 -0400 (Mon, 15 Apr 2024) EndedAt: 2024-04-15 23:25:27 -0400 (Mon, 15 Apr 2024) EllapsedTime: 192.8 seconds RetCode: 0 Status: OK CheckDir: GNET2.Rcheck Warnings: 0