Package: GMRP Version: 1.30.0 Command: /Library/Frameworks/R.framework/Resources/bin/R CMD check --install=check:GMRP.install-out.txt --library=/Library/Frameworks/R.framework/Resources/library --no-vignettes --timings GMRP_1.30.0.tar.gz StartedAt: 2024-03-03 20:57:22 -0500 (Sun, 03 Mar 2024) EndedAt: 2024-03-03 20:58:53 -0500 (Sun, 03 Mar 2024) EllapsedTime: 91.1 seconds RetCode: 0 Status: WARNINGS CheckDir: GMRP.Rcheck Warnings: 1