Package: GMRP Version: 1.30.0 Command: /Library/Frameworks/R.framework/Resources/bin/R CMD build --keep-empty-dirs --no-resave-data GMRP StartedAt: 2024-03-03 16:54:34 -0500 (Sun, 03 Mar 2024) EndedAt: 2024-03-03 16:55:01 -0500 (Sun, 03 Mar 2024) EllapsedTime: 27.0 seconds RetCode: 0 Status: OK PackageFile: GMRP_1.30.0.tar.gz PackageFileSize: 897.3 KiB