Package: GMRP Version: 1.30.0 Command: rm -rf GMRP.buildbin-libdir && mkdir GMRP.buildbin-libdir && /Users/biocbuild/BBS/utils/build-universal.sh GMRP_1.30.0.tar.gz /Library/Frameworks/R.framework/Resources/bin/R GMRP.buildbin-libdir StartedAt: 2024-03-04 00:44:04 -0500 (Mon, 04 Mar 2024) EndedAt: 2024-03-04 00:44:21 -0500 (Mon, 04 Mar 2024) EllapsedTime: 17.0 seconds RetCode: 0 Status: OK PackageFile: GMRP_1.30.0.tgz PackageFileSize: 975.1 KiB