Package: GLAD Version: 2.66.0 Command: /Library/Frameworks/R.framework/Resources/bin/R CMD build --keep-empty-dirs --no-resave-data GLAD StartedAt: 2024-03-03 16:53:51 -0500 (Sun, 03 Mar 2024) EndedAt: 2024-03-03 16:54:21 -0500 (Sun, 03 Mar 2024) EllapsedTime: 30.5 seconds RetCode: 0 Status: OK PackageFile: GLAD_2.66.0.tar.gz PackageFileSize: 1.302 MiB