Package: GISPA Version: 1.26.0 Command: F:\biocbuild\bbs-3.18-bioc\R\bin\R.exe CMD INSTALL GISPA StartedAt: 2024-04-15 16:25:36 -0400 (Mon, 15 Apr 2024) EndedAt: 2024-04-15 16:26:10 -0400 (Mon, 15 Apr 2024) EllapsedTime: 33.8 seconds RetCode: 0 Status: OK