Package: GIGSEA Version: 1.20.0 Command: rm -rf GIGSEA.buildbin-libdir && mkdir GIGSEA.buildbin-libdir && F:\biocbuild\bbs-3.18-bioc\R\bin\R.exe CMD INSTALL --build --library=GIGSEA.buildbin-libdir GIGSEA_1.20.0.tar.gz StartedAt: 2024-04-16 07:05:21 -0400 (Tue, 16 Apr 2024) EndedAt: 2024-04-16 07:05:32 -0400 (Tue, 16 Apr 2024) EllapsedTime: 10.8 seconds RetCode: 0 Status: OK PackageFile: GIGSEA_1.20.0.zip PackageFileSize: 1.804 MiB