Package: GIGSEA Version: 1.20.0 Command: /Library/Frameworks/R.framework/Resources/bin/R CMD check --install=check:GIGSEA.install-out.txt --library=/Library/Frameworks/R.framework/Resources/library --no-vignettes --timings GIGSEA_1.20.0.tar.gz StartedAt: 2024-03-03 20:55:51 -0500 (Sun, 03 Mar 2024) EndedAt: 2024-03-03 20:57:22 -0500 (Sun, 03 Mar 2024) EllapsedTime: 90.9 seconds RetCode: 0 Status: OK CheckDir: GIGSEA.Rcheck Warnings: 0