Package: GGPA Version: 1.14.0 Command: /Library/Frameworks/R.framework/Resources/bin/R CMD build --keep-empty-dirs --no-resave-data GGPA StartedAt: 2024-03-03 16:53:16 -0500 (Sun, 03 Mar 2024) EndedAt: 2024-03-03 16:54:34 -0500 (Sun, 03 Mar 2024) EllapsedTime: 77.8 seconds RetCode: 0 Status: OK PackageFile: GGPA_1.14.0.tar.gz PackageFileSize: 4.711 MiB