Package: GGPA Version: 1.14.0 Command: /home/biocbuild/R/R-4.3.1/bin/R CMD build --keep-empty-dirs --no-resave-data GGPA StartedAt: 2023-11-02 01:36:44 -0000 (Thu, 02 Nov 2023) EndedAt: 2023-11-02 01:38:44 -0000 (Thu, 02 Nov 2023) EllapsedTime: 120.2 seconds RetCode: 0 Status: OK PackageFile: GGPA_1.14.0.tar.gz PackageFileSize: 4.687 MiB