Package: GEWIST Version: 1.46.0 Command: F:\biocbuild\bbs-3.18-bioc\R\bin\R.exe CMD INSTALL GEWIST StartedAt: 2024-04-15 16:25:22 -0400 (Mon, 15 Apr 2024) EndedAt: 2024-04-15 16:25:26 -0400 (Mon, 15 Apr 2024) EllapsedTime: 3.9 seconds RetCode: 0 Status: OK