Package: GEWIST Version: 1.46.0 Command: /Library/Frameworks/R.framework/Resources/bin/R CMD INSTALL GEWIST StartedAt: 2024-04-15 16:11:25 -0400 (Mon, 15 Apr 2024) EndedAt: 2024-04-15 16:11:31 -0400 (Mon, 15 Apr 2024) EllapsedTime: 6.1 seconds RetCode: 0 Status: OK