Package: GEWIST Version: 1.46.0 Command: /home/biocbuild/R/R-4.3.1/bin/R CMD check --install=check:GEWIST.install-out.txt --library=/home/biocbuild/R/R-4.3.1/site-library --no-vignettes --timings GEWIST_1.46.0.tar.gz StartedAt: 2023-11-02 10:56:17 -0000 (Thu, 02 Nov 2023) EndedAt: 2023-11-02 10:57:35 -0000 (Thu, 02 Nov 2023) EllapsedTime: 77.8 seconds RetCode: 0 Status: OK CheckDir: GEWIST.Rcheck Warnings: 0