Package: GEOsubmission Version: 1.54.0 Command: /home/biocbuild/bbs-3.18-bioc/R/bin/R CMD INSTALL GEOsubmission StartedAt: 2024-04-15 15:08:11 -0400 (Mon, 15 Apr 2024) EndedAt: 2024-04-15 15:08:19 -0400 (Mon, 15 Apr 2024) EllapsedTime: 7.4 seconds RetCode: 0 Status: OK